BEGIN:VCALENDAR
VERSION:2.0
PRODID:-//Squarespace Inc/Squarespace 6//v6//EN
BEGIN:VEVENT
UID:5e420f092aa7a072e9d08881@squarespace.com
DTSTAMP:20200218T010851Z
DTSTART:20200223T190000Z
DTEND:20200301T073000Z
SUMMARY:We are turning 36!!!
END:VEVENT
END:VCALENDAR
