BEGIN:VCALENDAR
VERSION:2.0
PRODID:-//Squarespace Inc/Squarespace 6//v6//EN
BEGIN:VEVENT
UID:5e1f8d7a94e2641621dda1dd@squarespace.com
DTSTAMP:20200115T221642Z
DTSTART:20200119T193000Z
DTEND:20200126T070000Z
SUMMARY:Lamington Sale
END:VEVENT
END:VCALENDAR
