BEGIN:VCALENDAR
VERSION:2.0
PRODID:-//Squarespace Inc/Squarespace 6//v6//EN
BEGIN:VEVENT
UID:5d4a4c1c2a5e0f0001e44476@squarespace.com
DTSTAMP:20190807T035928Z
DTSTART:20190825T203000Z
DTEND:20190901T080000Z
SUMMARY:Our Bright bakeries are celebrating their 1st Birthday!!!
END:VEVENT
END:VCALENDAR
