BEGIN:VCALENDAR
VERSION:2.0
PRODID:-//Squarespace Inc/Squarespace 6//v6//EN
BEGIN:VEVENT
UID:5d26d282f8be440001d354ce@squarespace.com
DTSTAMP:20190711T061051Z
DTSTART:20190726T063000Z
DTEND:20190728T073000Z
SUMMARY:Winter Blues Festival in Echuca-Moama
END:VEVENT
END:VCALENDAR
