BEGIN:VCALENDAR
VERSION:2.0
PRODID:-//Squarespace Inc/Squarespace 6//v6//EN
BEGIN:VEVENT
UID:5d26d328755e8a000136d253@squarespace.com
DTSTAMP:20190711T061524Z
DTSTART:20190714T203000Z
DTEND:20190719T080000Z
SUMMARY:10c Pie Sale in Echuca
END:VEVENT
END:VCALENDAR
