BEGIN:VCALENDAR
VERSION:2.0
PRODID:-//Squarespace Inc/Squarespace 6//v6//EN
BEGIN:VEVENT
UID:5d1a8d2012f4c50001e8066e@squarespace.com
DTSTAMP:20190919T070514Z
DTSTART:20190929T203000Z
DTEND:20191006T070000Z
SUMMARY:Donut Week @ Beechworth Bakery
END:VEVENT
END:VCALENDAR
