BEGIN:VCALENDAR
VERSION:2.0
PRODID:-//Squarespace Inc/Squarespace 6//v6//EN
BEGIN:VEVENT
UID:5cf60aa153759c00018aca1e@squarespace.com
DTSTAMP:20190604T060946Z
DTSTART:20190623T203000Z
DTEND:20190630T080000Z
SUMMARY:Ballarat's 13th Birthday &amp\; 10c Pie Sale
END:VEVENT
END:VCALENDAR
