BEGIN:VCALENDAR
VERSION:2.0
PRODID:-//Squarespace Inc/Squarespace 6//v6//EN
BEGIN:VEVENT
UID:5cca5c3f4785d3a55c046259@squarespace.com
DTSTAMP:20190502T030405Z
DTSTART:20190602T220000Z
DTEND:20190607T080000Z
SUMMARY:10c Pie Sale in Albury
GEO:-36.080543;146.919719
LOCATION:Beechworth Bakery Albury\, Shop 11 Myer Centrepoint\, Albury NSW 2
 640\, Australia
END:VEVENT
END:VCALENDAR
