BEGIN:VCALENDAR
VERSION:2.0
PRODID:-//Squarespace Inc/Squarespace 6//v6//EN
BEGIN:VEVENT
UID:5cca5abf2d0f720001a9e97f@squarespace.com
DTSTAMP:20190502T025534Z
DTSTART:20190519T203000Z
DTEND:20190526T080000Z
SUMMARY:14th Birthday Week in Bendigo
GEO:-36.763572;144.27006
LOCATION:Beechworth Bakery Bendigo\, 158 High Street\, Bendigo\, VIC\, 3550
 \, Australia
END:VEVENT
END:VCALENDAR
