BEGIN:VCALENDAR
VERSION:2.0
PRODID:-//Squarespace Inc/Squarespace 6//v6//EN
BEGIN:VEVENT
UID:5cca581ae4966b279fb11635@squarespace.com
DTSTAMP:20190502T024403Z
DTSTART:20190506T030000Z
DTEND:20190510T140000Z
SUMMARY:Mother's Day Competition
END:VEVENT
END:VCALENDAR
