BEGIN:VCALENDAR
VERSION:2.0
PRODID:-//Squarespace Inc/Squarespace 6//v6//EN
BEGIN:VEVENT
UID:5cca59a4ee6eb016402a416c@squarespace.com
DTSTAMP:20190502T024855Z
DTSTART:20190512T203000Z
DTEND:20190517T013000Z
SUMMARY:10c Beesting Sale in Healesville
GEO:-37.65222;145.521786
LOCATION:Beechworth Bakery Healesville\, 316 Maroondah Highway\, Healesvill
 e\, VIC\, 3777\, Australia
END:VEVENT
END:VCALENDAR
