BEGIN:VCALENDAR
VERSION:2.0
PRODID:-//Squarespace Inc/Squarespace 6//v6//EN
BEGIN:VEVENT
UID:5ca17ee19b747a3d7dcc7f17@squarespace.com
DTSTAMP:20190401T031632Z
DTSTART:20190315T193000Z
DTEND:20190628T000000Z
SUMMARY:FREE Pot of Royal-tea in Bendigo
GEO:-36.763572;144.27006
LOCATION:Beechworth Bakery Bendigo\, 158 High Street\, Bendigo\, VIC\, 3550
 \, Australia
END:VEVENT
END:VCALENDAR
