BEGIN:VCALENDAR
VERSION:2.0
PRODID:-//Squarespace Inc/Squarespace 6//v6//EN
BEGIN:VEVENT
UID:5c74b669c830255955703c81@squarespace.com
DTSTAMP:20190226T035426Z
DTSTART:20190226T040000Z
DTEND:20210126T050000Z
SUMMARY:Solutions to Activity Sheet
END:VEVENT
END:VCALENDAR
