BEGIN:VCALENDAR
VERSION:2.0
PRODID:-//Squarespace Inc/Squarespace 6//v6//EN
BEGIN:VEVENT
UID:5dc37e8449d3b81bac9af08b@squarespace.com
DTSTAMP:20191107T022311Z
DTSTART:20191117T210000Z
DTEND:20191124T053000Z
SUMMARY:It's Birthday Time in Albury
GEO:-36.080543;146.919719
LOCATION:Beechworth Bakery Albury\, Shop 11 Myer Centrepoint\, Albury\, Aus
 tralia
END:VEVENT
END:VCALENDAR
