BEGIN:VCALENDAR
VERSION:2.0
PRODID:-//Squarespace Inc/Squarespace 6//v6//EN
BEGIN:VEVENT
UID:5dc37ef4b1ca8047efcbc4f6@squarespace.com
DTSTAMP:20191107T022213Z
DTSTART:20191110T193000Z
DTEND:20191115T070000Z
SUMMARY:10c Beesting Sale in Ballarat
GEO:-37.563161;143.860312
LOCATION:Beechworth Bakery Ballarat\, 6 Grenville Street South\, Ballarat C
 entral\, VIC\, 3350\, Australia
END:VEVENT
END:VCALENDAR
