BEGIN:VCALENDAR
VERSION:2.0
PRODID:-//Squarespace Inc/Squarespace 6//v6//EN
BEGIN:VEVENT
UID:5d8c508d6e155e1916c7c053@squarespace.com
DTSTAMP:20190926T054931Z
DTSTART:20191006T193000Z
DTEND:20191012T213000Z
SUMMARY:Healesville is celebrating 13 years!
END:VEVENT
END:VCALENDAR
