BEGIN:VCALENDAR
VERSION:2.0
PRODID:-//Squarespace Inc/Squarespace 6//v6//EN
BEGIN:VEVENT
UID:5db7bc4a71005f1c8c95845f@squarespace.com
DTSTAMP:20191029T042532Z
DTSTART:20191101T010000Z
DTEND:20191101T050000Z
SUMMARY:Want a personalised bottle?
GEO:-37.65222;145.521786
LOCATION:Beechworth Bakery Healesville\, 316 Maroondah Highway\, Healesvill
 e\, VIC\, 3777\, Australia
END:VEVENT
END:VCALENDAR
