BEGIN:VCALENDAR
VERSION:2.0
PRODID:-//Squarespace Inc/Squarespace 6//v6//EN
BEGIN:VEVENT
UID:5d8c51879238be297afe6bb8@squarespace.com
DTSTAMP:20190926T060117Z
DTSTART:20191020T203000Z
DTEND:20191027T070000Z
SUMMARY:Our Yackandandah bakery is turning 2!
END:VEVENT
END:VCALENDAR
